BEGIN:VCALENDAR
VERSION:2.0
PRODID:-//Zameen Art House - ECPv6.15.18//NONSGML v1.0//EN
CALSCALE:GREGORIAN
METHOD:PUBLISH
X-WR-CALNAME:Zameen Art House
X-ORIGINAL-URL:https://zameenarthouse.com
X-WR-CALDESC:Events for Zameen Art House
REFRESH-INTERVAL;VALUE=DURATION:PT1H
X-Robots-Tag:noindex
X-PUBLISHED-TTL:PT1H
BEGIN:VTIMEZONE
TZID:America/Vancouver
BEGIN:DAYLIGHT
TZOFFSETFROM:-0800
TZOFFSETTO:-0700
TZNAME:PDT
DTSTART:20230312T100000
END:DAYLIGHT
BEGIN:STANDARD
TZOFFSETFROM:-0700
TZOFFSETTO:-0800
TZNAME:PST
DTSTART:20231105T090000
END:STANDARD
BEGIN:DAYLIGHT
TZOFFSETFROM:-0800
TZOFFSETTO:-0700
TZNAME:PDT
DTSTART:20240310T100000
END:DAYLIGHT
BEGIN:STANDARD
TZOFFSETFROM:-0700
TZOFFSETTO:-0800
TZNAME:PST
DTSTART:20241103T090000
END:STANDARD
BEGIN:DAYLIGHT
TZOFFSETFROM:-0800
TZOFFSETTO:-0700
TZNAME:PDT
DTSTART:20250309T100000
END:DAYLIGHT
BEGIN:STANDARD
TZOFFSETFROM:-0700
TZOFFSETTO:-0800
TZNAME:PST
DTSTART:20251102T090000
END:STANDARD
BEGIN:DAYLIGHT
TZOFFSETFROM:-0800
TZOFFSETTO:-0700
TZNAME:PDT
DTSTART:20260308T100000
END:DAYLIGHT
BEGIN:STANDARD
TZOFFSETFROM:-0700
TZOFFSETTO:-0800
TZNAME:PST
DTSTART:20261101T090000
END:STANDARD
BEGIN:DAYLIGHT
TZOFFSETFROM:-0800
TZOFFSETTO:-0700
TZNAME:PDT
DTSTART:20270314T100000
END:DAYLIGHT
BEGIN:STANDARD
TZOFFSETFROM:-0700
TZOFFSETTO:-0800
TZNAME:PST
DTSTART:20271107T090000
END:STANDARD
END:VTIMEZONE
BEGIN:VEVENT
DTSTART;TZID=America/Vancouver:20260106T183000
DTEND;TZID=America/Vancouver:20260106T203000
DTSTAMP:20260419T105239
CREATED:20251124T225257Z
LAST-MODIFIED:20251127T213221Z
UID:16811-1767724200-1767731400@zameenarthouse.com
SUMMARY:Comprehensive Beginner Art Package
DESCRIPTION:A 4-Session Introduction to Kickstart Your Creative Resolution\nStarting Tuesday\, January 6\, and running for four weeks\n \nAbout the Course\nIf your New Year’s goal is to make more art\, this is the perfect place to begin! This beginner-friendly program helps you build a fresh creative habit\, learn new skills\, and finally give yourself the artistic start you’ve been dreaming of; no experience required. \nOver four sessions\, you’ll explore essential drawing and painting techniques and experiment with three exciting mediums. It’s a motivating\, supportive way to make your resolution real. \n\nWhat You’ll Learn\nSession Highlights\n– Architectural Sketching & PerspectiveLearn how to draw buildings and spaces with depth\, structure\, and accurate proportions. \n– Portrait Sketching & FundamentalsUnderstand facial proportions\, shading\, and basic techniques to bring faces to life. \n–  Color Techniques with Three Mediums \n\n\nColored Pencils \n\n\nWatercolor \n\n\nPastels \n\n\nYou’ll practice blending\, layering\, color theory\, and texture to create expressive artwork. \n\nWho Is This For?\n\n\nAbsolute beginners \n\n\nAnyone returning to art after a long break \n\n\nStudents looking to explore different mediums \n\n\nCreative hobby seekers \n\n\nNo prior skills or materials required (optional to bring your own). \n\nDuration\n4 sessions (8 hours)Each session builds on the last\, giving you a solid foundation in both drawing and color-based art and stay motivated in your resolution. \n\nWhat You’ll Gain\n\n\nConfidence in sketching and painting \n\n\nUnderstanding of perspective and proportions \n\n\nHands-on experience with three popular mediums \n\n\nFinished artworks to take home \n\n\nA fun\, encouraging learning environment \n\n\n\nJoin Us!\nTake your first step into the world of art and discover what you can create. This is the perfect starting point for a lifelong creative passion.
URL:https://zameenarthouse.com/event/painting-course/
LOCATION:Zameen Art House\, 1515 Anderson St.\, Vancouver\, British Columbia\, V6H 3R5\, Canada
CATEGORIES:Art Class,Painting,Workshop
ATTACH;FMTTYPE=image/png:https://zameenarthouse.com/wp-content/uploads/2025/11/watercolor-workshop-18.png
ORGANIZER;CN="Zameen Art House":MAILTO:info@zameenarthouse.com
END:VEVENT
BEGIN:VEVENT
DTSTART;TZID=America/Vancouver:20251123T100000
DTEND;TZID=America/Vancouver:20251123T120000
DTSTAMP:20260419T105239
CREATED:20250914T213513Z
LAST-MODIFIED:20251010T174652Z
UID:14558-1763892000-1763899200@zameenarthouse.com
SUMMARY:Handmade Paper Workshop (Two-Session\, Nov 23-30)
DESCRIPTION:Ever wondered how ordinary fibers can be transformed into something extraordinary?\nJoin our Two-Session Handmade Paper Workshop and experience the magic of turning pulp into paper\, a process that is as grounding as it is creative. \nEach sheet you craft will carry its own story: unique\, poetic\, and deeply personal. Guided through every step\, you’ll learn the traditional art of papermaking while exploring textures\, patterns\, and natural elements that make each creation one of a kind. \nWhat to Expect\n– Introduction to the art and history of handmade paper\n– Hands-on experience: from pulp preparation to sheet formation\n– Techniques to add texture\, color\, and character\n– A relaxing\, mindful atmosphere where creativity flows naturally \nWhether you’re an artist\, a craft lover\, or simply curious to try something new\, this workshop is an invitation to touch nature\, free your imagination\, and discover the beauty of handmade art. \nZameen Club Members get 15% discount on this workshop\, as well as every other Zameen event.
URL:https://zameenarthouse.com/event/handmade-paper-workshop/
LOCATION:Zameen Art House\, 1515 Anderson St.\, Vancouver\, British Columbia\, V6H 3R5\, Canada
CATEGORIES:Art Class,Workshop
ATTACH;FMTTYPE=image/png:https://zameenarthouse.com/wp-content/uploads/2025/09/moodboard.png
ORGANIZER;CN="Zameen Art House":MAILTO:info@zameenarthouse.com
END:VEVENT
BEGIN:VEVENT
DTSTART;TZID=America/Vancouver:20251101T100000
DTEND;TZID=America/Vancouver:20251101T130000
DTSTAMP:20260419T105239
CREATED:20250913T013404Z
LAST-MODIFIED:20251027T051227Z
UID:14514-1761991200-1762002000@zameenarthouse.com
SUMMARY:Papier Mâché Accessories Workshop
DESCRIPTION:Create Unique\, Handcrafted Jewelry from Paper\n(Two-day Workshop) \nDid you know that with just simple scraps of paper\, you can create stunning\, one-of-a-kind artistic accessories? In this hands-on workshop\, you’ll discover the magic of papier-mâché —a centuries-old technique that transforms paper and glue into beautiful\, durable works of art. \n\nWhat You’ll Learn\n– How to prepare paper pulp and get it ready for crafting\n– Shaping and designing accessories (earrings\, necklaces\, bracelets\, and more)\n– Finishing touches: painting\, decorating\, and sealing with modern coatings\n– Tips for developing your own personal design style \n\nWhy Papier Mâché?\nLightweight & Comfortable → Perfect for everyday wear\nEco-Friendly → Reuse recycled paper while creating art that’s kind to the planet\nUnique & Personal → No two pieces are ever the same—each accessory tells your story \n\n🎨 The Experience\nThis workshop is more than just learning a technique. It’s a chance to play with creativity\, reconnect with your inner child\, and craft jewelry that carries your own energy and imagination. You’ll leave with accessories that are not only stylish\, but also meaningful and uniquely yours. \n💡 No experience needed—just bring your curiosity and creativity!
URL:https://zameenarthouse.com/event/papier-mache-accessories-workshop/
LOCATION:Zameen Art House\, 1515 Anderson St.\, Vancouver\, British Columbia\, V6H 3R5\, Canada
CATEGORIES:Art Class,Workshop
ATTACH;FMTTYPE=image/png:https://zameenarthouse.com/wp-content/uploads/2025/09/Papier-12.png
ORGANIZER;CN="Zameen Art House":MAILTO:info@zameenarthouse.com
END:VEVENT
BEGIN:VEVENT
DTSTART;TZID=America/Vancouver:20240818T170000
DTEND;TZID=America/Vancouver:20240818T193000
DTSTAMP:20260419T105239
CREATED:20240812T080001Z
LAST-MODIFIED:20240813T020054Z
UID:3452-1724000400-1724009400@zameenarthouse.com
SUMMARY:Drawing from Life: A Practical Approach to Human Figures
DESCRIPTION:Recurring Workshop Every Sunday at 5:00 PM \nThis 2.5-hour workshop is designed to be engaging\, practical\, and enjoyable. You’ll receive personalized instruction from our dedicated instructor\, covering a variety of techniques such as: \n✏️ Figure Drawing\n🦵 Understanding Body Proportions\n📏 Mastering Measurement\, Wedging\, Locking\, and Passing \nIn our supportive and fun environment\, you’ll gain valuable skills while making new friends who share your passion for art. \n⭐️ 20% off on 4-session packages  \n 
URL:https://zameenarthouse.com/event/drawing-from-life-a-practical-approach-to-human-figures/
LOCATION:Zameen Art House\, 1515 Anderson St.\, Vancouver\, British Columbia\, V6H 3R5\, Canada
CATEGORIES:Art Class
ATTACH;FMTTYPE=image/png:https://zameenarthouse.com/wp-content/uploads/2024/08/Yahya-2.png
ORGANIZER;CN="Zameen Art House":MAILTO:info@zameenarthouse.com
END:VEVENT
BEGIN:VEVENT
DTSTART;TZID=America/Vancouver:20240811T170000
DTEND;TZID=America/Vancouver:20240811T193000
DTSTAMP:20260419T105239
CREATED:20240713T012146Z
LAST-MODIFIED:20240810T194255Z
UID:2645-1723395600-1723404600@zameenarthouse.com
SUMMARY:Drawing from Life: A Practical Approach to Human Figures
DESCRIPTION:Recurring Workshop Every Sunday at 5:00 PM \nThis 2.5-hour workshop is designed to be engaging\, practical\, and enjoyable. You’ll receive personalized instruction from our dedicated instructor\, covering a variety of techniques such as: \n✏️ Figure Drawing\n🦵 Understanding Body Proportions\n📏 Mastering Measurement\, Wedging\, Locking\, and Passing \nIn our supportive and fun environment\, you’ll gain valuable skills while making new friends who share your passion for art. \n⭐️ 20% off on 4-session packages  \n 
URL:https://zameenarthouse.com/event/drawing-from-life-workshop/
LOCATION:Zameen Art House\, 1515 Anderson St.\, Vancouver\, British Columbia\, V6H 3R5\, Canada
CATEGORIES:Art Class
ATTACH;FMTTYPE=image/png:https://zameenarthouse.com/wp-content/uploads/2024/07/Yahya-drawing-poster-for-web.png
ORGANIZER;CN="Zameen Art House":MAILTO:info@zameenarthouse.com
END:VEVENT
END:VCALENDAR