BEGIN:VCALENDAR
VERSION:2.0
PRODID:-//Zameen Art House - ECPv6.15.18//NONSGML v1.0//EN
CALSCALE:GREGORIAN
METHOD:PUBLISH
X-WR-CALNAME:Zameen Art House
X-ORIGINAL-URL:https://zameenarthouse.com
X-WR-CALDESC:Events for Zameen Art House
REFRESH-INTERVAL;VALUE=DURATION:PT1H
X-Robots-Tag:noindex
X-PUBLISHED-TTL:PT1H
BEGIN:VTIMEZONE
TZID:America/Vancouver
BEGIN:DAYLIGHT
TZOFFSETFROM:-0800
TZOFFSETTO:-0700
TZNAME:PDT
DTSTART:20240310T100000
END:DAYLIGHT
BEGIN:STANDARD
TZOFFSETFROM:-0700
TZOFFSETTO:-0800
TZNAME:PST
DTSTART:20241103T090000
END:STANDARD
BEGIN:DAYLIGHT
TZOFFSETFROM:-0800
TZOFFSETTO:-0700
TZNAME:PDT
DTSTART:20250309T100000
END:DAYLIGHT
BEGIN:STANDARD
TZOFFSETFROM:-0700
TZOFFSETTO:-0800
TZNAME:PST
DTSTART:20251102T090000
END:STANDARD
BEGIN:DAYLIGHT
TZOFFSETFROM:-0800
TZOFFSETTO:-0700
TZNAME:PDT
DTSTART:20260308T100000
END:DAYLIGHT
BEGIN:STANDARD
TZOFFSETFROM:-0700
TZOFFSETTO:-0800
TZNAME:PST
DTSTART:20261101T090000
END:STANDARD
BEGIN:DAYLIGHT
TZOFFSETFROM:-0800
TZOFFSETTO:-0700
TZNAME:PDT
DTSTART:20270314T100000
END:DAYLIGHT
BEGIN:STANDARD
TZOFFSETFROM:-0700
TZOFFSETTO:-0800
TZNAME:PST
DTSTART:20271107T090000
END:STANDARD
END:VTIMEZONE
BEGIN:VEVENT
DTSTART;TZID=America/Vancouver:20260305T180000
DTEND;TZID=America/Vancouver:20260305T220000
DTSTAMP:20260419T073256
CREATED:20260210T050241Z
LAST-MODIFIED:20260217T181938Z
UID:18361-1772733600-1772748000@zameenarthouse.com
SUMMARY:Persian Poetry Night
DESCRIPTION:This session is in Farsi ·\nاین جلسه به زبان فارسی است \n\n\nAbout the event\nThis Persian Poetry Night brings us together to celebrate the voices\, imaginations\, and cultural impact of women poets in Iran.\nThe evening begins with a curated poetry reading and a short discussion reflecting on poetry\, memory\, and women’s literary presence\,\nfollowed by a screening of Cold Green\, a documentary on the life of Forough Farrokhzad. \n\nWhat to expect\n\nScreening of the documentary Cold Green about Forough Farrokhzad\nPersian poetry readings centered on women poets in Iran\nBrief facilitated conversation after the screening/reading\n\n\n\n\n \n\nشب شعر فارسی: «زنان شاعر ایران»\nدر آستانهٔ روز جهانی زن، از شما دعوت می‌کنیم در شبی به‌یادماندنی همراه ما باشید؛\nشبی برای شنیدن و بازخوانی صدای زنان شاعر ایران، از پیشگامان تا نسل‌های معاصر.\nپس از شب شعر، مستند Cold Green دربارهٔ زندگی و جهان شعری فروغ فرخزاد پخش خواهد شد. \nانتخاب این موضوع، ادای احترام به زنانی است که با زبان و تخیل خود، افق‌های تازه‌ای در ادبیات فارسی گشوده‌اند. \n\nجزئیات:\nپنج‌شنبه ۵ مارچ· شب شعر از ساعت ۶ عصر\n· نمایش مستند ساعت ۸ شب \nزبان برنامه: فارسی · موضوع: زنان شاعر ایران \nیادداشت:\nاگر مایلید در بخش شعرخوانی شرکت کنید، یک شعر کوتاه (یا بخشی کوتاه) آماده داشته باشید.
URL:https://zameenarthouse.com/event/persian-poetry-night-4/
LOCATION:Zameen Art House\, 1515 Anderson St.\, Vancouver\, British Columbia\, V6H 3R5\, Canada
CATEGORIES:Book Reading,Poetry Night,Workshop
ATTACH;FMTTYPE=image/png:https://zameenarthouse.com/wp-content/uploads/2026/02/Poetry-Night-1080-x-1080-px.png
ORGANIZER;CN="Zameen Art House":MAILTO:info@zameenarthouse.com
END:VEVENT
BEGIN:VEVENT
DTSTART;TZID=America/Vancouver:20260124T160000
DTEND;TZID=America/Vancouver:20260124T173000
DTSTAMP:20260419T073256
CREATED:20251217T054159Z
LAST-MODIFIED:20260120T042622Z
UID:17150-1769270400-1769275800@zameenarthouse.com
SUMMARY:Persian Poetry Night
DESCRIPTION:Third Gathering: For Iran… For Freedom\n(in Farsi/ Persian)\n\nIn this gathering\, we come together to read our poems and heartfelt writings\, for Iran and for freedom\, to be a balm for the unawareness and the unrest of these days.\n\nنشست سوم؛ برای ایران… برای آزادیدر این نشست گرد هم می‌آییم تا با خواندنِ شعرها و دل‌نوشته‌هایمان برای ایران و برای آزادی، مرهمی باشیم بر بی‌خبری‌ها و آشفتگیِ این روزهای‌مان.
URL:https://zameenarthouse.com/event/persian-poetry-night-3/
LOCATION:Zameen Art House\, 1515 Anderson St.\, Vancouver\, British Columbia\, V6H 3R5\, Canada
CATEGORIES:Book Reading,Poetry Night,Workshop
ATTACH;FMTTYPE=image/png:https://zameenarthouse.com/wp-content/uploads/2025/12/Poetry-Night-3-1.png
ORGANIZER;CN="Zameen Art House":MAILTO:info@zameenarthouse.com
END:VEVENT
BEGIN:VEVENT
DTSTART;TZID=America/Vancouver:20251127T180000
DTEND;TZID=America/Vancouver:20251127T190000
DTSTAMP:20260419T073256
CREATED:20251101T173000Z
LAST-MODIFIED:20251224T084330Z
UID:16292-1764266400-1764270000@zameenarthouse.com
SUMMARY:Persian Poetry Night
DESCRIPTION:These sessions are in Farsi\nWe’re putting together a cozy little gathering for anyone who loves words\, poetry\, stories\, notes\, or even those random lines you scribble down and don’t know where they belong. This is a space to read our own stuff out loud\, chat about it\, and swap thoughts in a friendly\, supportive way. No competition\, no pressure\, just sharing\, growing\, and enjoying the magic of language together. \nاز همه‌ی دوستداران ادبیات دعوت می‌کنیم به جمع صمیمی ما بپیوندند؛ محفلی کوچک اما پرشور که در آن می‌توانیم نوشته‌هایمان را از شعر و داستان گرفته تا یادداشت‌ها و متن‌های کوتاه  با هم به اشتراک بگذاریم. در این نشست‌ها آثار توسط نویسندگانشان خوانده می‌شود و فرصتی برای گفت‌وگو و نقد دوستانه فراهم خواهد شد. هدف ما نه رقابت، که رشد جمعی و لذت بردن از کلمات است. اگر دل در گروی ادبیات دارید، جای شما در کنار ما خالی است. \nFollowing the poetry reading\, we will screen the documentary “Ahmad Shamlou: Master Poet of Liberty.” You can purchase tickets through the Poetry Night event page or directly via the Movie Night page.
URL:https://zameenarthouse.com/event/poetry-night-2/
LOCATION:Zameen Art House\, 1515 Anderson St.\, Vancouver\, British Columbia\, V6H 3R5\, Canada
CATEGORIES:Book Reading,Poetry Night,Workshop
ATTACH;FMTTYPE=image/png:https://zameenarthouse.com/wp-content/uploads/2025/11/شب-شعر-7.png
ORGANIZER;CN="Zameen Art House":MAILTO:info@zameenarthouse.com
END:VEVENT
BEGIN:VEVENT
DTSTART;TZID=America/Vancouver:20251016T200000
DTEND;TZID=America/Vancouver:20251016T213000
DTSTAMP:20260419T073256
CREATED:20251003T035224Z
LAST-MODIFIED:20251224T084331Z
UID:15464-1760644800-1760650200@zameenarthouse.com
SUMMARY:Persian Poetry Night
DESCRIPTION:These sessions are in Farsi\nWe’re putting together a cozy little gathering for anyone who loves words\, poetry\, stories\, notes\, or even those random lines you scribble down and don’t know where they belong. This is a space to read our own stuff out loud\, chat about it\, and swap thoughts in a friendly\, supportive way. No competition\, no pressure\, just sharing\, growing\, and enjoying the magic of language together. \nاز همه‌ی دوستداران ادبیات دعوت می‌کنیم به جمع صمیمی ما بپیوندند؛ محفلی کوچک اما پرشور که در آن می‌توانیم نوشته‌هایمان را از شعر و داستان گرفته تا یادداشت‌ها و متن‌های کوتاه  با هم به اشتراک بگذاریم. در این نشست‌ها آثار توسط نویسندگانشان خوانده می‌شود و فرصتی برای گفت‌وگو و نقد دوستانه فراهم خواهد شد. هدف ما نه رقابت، که رشد جمعی و لذت بردن از کلمات است. اگر دل در گروی ادبیات دارید، جای شما در کنار ما خالی است.
URL:https://zameenarthouse.com/event/persian-poetry-night/
LOCATION:Zameen Art House\, 1515 Anderson St.\, Vancouver\, British Columbia\, V6H 3R5\, Canada
CATEGORIES:Poetry Night
ATTACH;FMTTYPE=image/webp:https://zameenarthouse.com/wp-content/uploads/2025/10/Poetry-night-square.webp
ORGANIZER;CN="Zameen Art House":MAILTO:info@zameenarthouse.com
END:VEVENT
END:VCALENDAR